BEGIN:VCALENDAR
METHOD:PUBLISH
VERSION:2.0
CALSCALE:GREGORIAN
PRODID:-//NONSGML WPForms//NONSGML Sugar Calendar Feeds v3.11.0//EN
X-WR-CALNAME:47th Annual Fox Valley Folk Festival
X-WR-CALDESC:Off Square Music
X-WR-TIMEZONE:America/Chicago
BEGIN:VTIMEZONE
TZID:America/Chicago
BEGIN:DAYLIGHT
TZOFFSETFROM:-0600
TZOFFSETTO:-0500
DTSTART:20230312T080000
TZNAME:CDT
END:DAYLIGHT
END:VTIMEZONE
BEGIN:VTIMEZONE
TZID:America/Chicago
BEGIN:DAYLIGHT
TZOFFSETFROM:-0600
TZOFFSETTO:-0500
DTSTART:20230312T080000
TZNAME:CDT
END:DAYLIGHT
END:VTIMEZONE
BEGIN:VEVENT
SUMMARY:47th Annual Fox Valley Folk Festival
DESCRIPTION:Since Off Square Music will not be hosting an event&nbsp\;on
  Sunday\, September 3\, we invite you to instead consider attending the 
 47th Annual Fox Valley Folk Festival in Island Park\, Geneva\, IL. This 
 event\, brought to you by our friends at Fox Valley Folklore Society\, w
 ill be on both&nbsp\;September 3rd&nbsp\;and 4th\, with many great perfo
 rmers on both days. Visit&nbsp\;https://fvfs.org/&nbsp\;for the full det
 ails and printable schedule.
URL;VALUE=URI:https://offsquaremusic.org/cal-events/47th-annual-fox-vall
 ey-folk-festival/
UID:urn:uuid:9d3b6220-b060-4ff1-ab47-d1097f40095e
STATUS:CONFIRMED
ORGANIZER:
DTSTAMP:20260424T161352Z
DTSTART;TZID=America/Chicago:20230903T110000
DTEND;TZID=America/Chicago:20230903T180000
END:VEVENT
END:VCALENDAR