BEGIN:VCALENDAR
METHOD:PUBLISH
VERSION:2.0
CALSCALE:GREGORIAN
PRODID:-//NONSGML WPForms//NONSGML Sugar Calendar Feeds v3.11.0//EN
X-WR-CALNAME:All-Original Open Mic at Stage Left Cafe | 4th Fridays
X-WR-CALDESC:Off Square Music
X-WR-TIMEZONE:America/Chicago
BEGIN:VTIMEZONE
TZID:America/Chicago
BEGIN:STANDARD
TZOFFSETFROM:-0500
TZOFFSETTO:-0600
DTSTART:20231105T070000
TZNAME:CST
END:STANDARD
END:VTIMEZONE
BEGIN:VTIMEZONE
TZID:America/Chicago
BEGIN:STANDARD
TZOFFSETFROM:-0500
TZOFFSETTO:-0600
DTSTART:20231105T070000
TZNAME:CST
END:STANDARD
END:VTIMEZONE
BEGIN:VEVENT
SUMMARY:All-Original Open Mic at Stage Left Cafe | 4th Fridays
DESCRIPTION:All-Original Open Mic at Stage Left Cafe features original s
 ongwriters\, poets\, storytellers\, and composers. We are delighted to s
 howcase these artists in a warm\, welcoming community setting. \n\n\n\nA
 ll performance styles are welcome as long&nbsp\;all&nbsp\;material is or
 iginal&nbsp\;and the performance is family-friendly.\n\n\n\nAll-Original
  Open Mics meet on the fourth Friday of the month\, Stage Left Cafe\,125
  W. Van Buren St.\, Woodstock\, 7:00 – 10:00 pm. Doors open at 6:30 pm
 .&nbsp\;\n\n\n\nStage Left Cafe&nbsp\;offers an exceptional performance 
 space and sound system for these events. Proof of vaccination is require
 d on entry and masks except when performing\, eating\, or drinking.\n\n\
 n\nJoin us for these wonderful evenings of family-friendly entertainment
 . There is a nominal cover charge at the door.\n\n\n\nHow to Sign Up to 
 Perform for an All-Original Open Mic\n\n\n\nThere are twelve spots at ea
 ch open mic. Reservations are on a first-come\, first-served basis. TIME
  IS SHORT\, so please place your request right away using the following 
 instructions. \n\n\n\nIf you haven't already done it\, please visit this
  page (or click on the button below) to complete a one-time informationa
 l form. When you fill in your form\, be sure to indicate if you are a po
 et/writer or a singer/songwriter. You can indicate that in the "Comment 
 or Message" field.\n\n\n\nOnce you submit that form\, you can return to 
 the same page any time to request a performance spot in any of our venue
 s. \n\n\n\n\nSign Up to Perform\n\n\n\n\nThe “Golden Rules” of Perfo
 rming\n\n\n\n\nAll material must be original. Cover songs or the work of
  other authors is not allowed.\n\n\n\nSinger/songwriters and musicians m
 ay perform&nbsp\;two songs or ten minutes&nbsp\;of material.\n\n\n\nWrit
 ers and poets may read&nbsp\;five to eight minutes&nbsp\;of material. \n
 \n\n\nPlease do not exceed time lengths as it is unfair to other perform
 ers. Keep introductions to your material brief so you can use your time 
 wisely.\n\n\n\nPlease show respect to other performers. We encourage you
  to stay for the entire program. We are proud to maintain a community of
  supportive artists.\n\n\n\nNo recording is allowed except for your own 
 performance.\n\n\n\nMost importantly\, have fun\, and know that you are 
 among friends!\n\n\n\n\nImportant note to performers and attendees in al
 l indoor venues\n\n\n\nMasks and vaccinations&nbsp\;recommended&nbsp\;bu
 t&nbsp\;not required.&nbsp\;please be thoughtful.\n\n\n\nLast But Not Le
 ast . . . \n\n\n\nWatch for posts HERE&nbsp\;with details and updates.
URL;VALUE=URI:https://offsquaremusic.org/cal-events/all-original-open-mi
 c-at-stage-left-cafe-4th-fridays-4/
UID:urn:uuid:8b0ddb37-0d2c-4729-b7f6-4a0c4c8806ce
STATUS:CONFIRMED
ORGANIZER:
DTSTAMP:20260425T165351Z
DTSTART;TZID=America/Chicago:20240223T190000
DTEND;TZID=America/Chicago:20240223T220000
RRULE:FREQ=MONTHLY;INTERVAL=1;UNTIL=20240726T235959Z
LOCATION:125 W. Van Buren St.
END:VEVENT
END:VCALENDAR