BEGIN:VCALENDAR
METHOD:PUBLISH
VERSION:2.0
CALSCALE:GREGORIAN
PRODID:-//NONSGML WPForms//NONSGML Sugar Calendar Feeds v3.11.0//EN
X-WR-CALNAME:July Stage Left Cafe Open Mic | Suzy Schwartz Featured
X-WR-CALDESC:Off Square Music
X-WR-TIMEZONE:America/Chicago
BEGIN:VTIMEZONE
TZID:America/Chicago
BEGIN:DAYLIGHT
TZOFFSETFROM:-0600
TZOFFSETTO:-0500
DTSTART:20230312T080000
TZNAME:CDT
END:DAYLIGHT
END:VTIMEZONE
BEGIN:VTIMEZONE
TZID:America/Chicago
BEGIN:DAYLIGHT
TZOFFSETFROM:-0600
TZOFFSETTO:-0500
DTSTART:20230312T080000
TZNAME:CDT
END:DAYLIGHT
END:VTIMEZONE
BEGIN:VEVENT
SUMMARY:July Stage Left Cafe Open Mic | Suzy Schwartz Featured
DESCRIPTION:Please note: The July Open Mic is on SATURDAY evening instea
 d of Friday due to a yearly event that makes Stage Left unavailable on t
 hat Friday in July.\n\n\n\nOur July Stage Left Open Mic features&nbsp\;S
 uzy Schwartz\, Saturday\, July 15\, 2023\, 7:00 pm / CDT (doors open at 
 6:30 pm).\n\n\n\nSave the date\, July 15\, 2023\, 7:00 pm/CDT (doors ope
 n 6:30 pm). Please join us at Stage Left Cafe\, 125 Van Buren St.\, Wood
 stock\, on the historic Woodstock Square. It’s so good to be back on F
 ridays! Great crowds\, wonderful music.\n\n\n\nThese monthly events offe
 r a delightful evening of music and friendship. We hope to see you — p
 erforming or enjoying the performances.\n\n\n\nMore About Off Square Mus
 ic Stage Left Open Mics\n\n\n\nThese Open Mics\, brought to you by&nbsp\
 ;Off Square Music\,&nbsp\;bring together performers — musicians\, sing
 ers\, poets and others — and live audiences in a wonderful\, family-fr
 iendly environment.\n\n\n\nWhether you’re just starting out as a perfo
 rmer or are a seasoned veteran\, our audience provides a supportive atmo
 sphere. Stage Left\, part of the&nbsp\;Woodstock Opera House\, adds to t
 hat ambiance with an exceptional performance space and sound system.\n\n
 \n\nOff Square requests a $5.00/pp donation to support our many music ac
 tivities\, including these Stage Left Open Mic nights. Proof of vaccinat
 ion is required as well as masks except when performing\, eating\, or dr
 inking.\n\n\n\nWant to perform? Here's how:\n\n\n\nIf you haven't alread
 y\, please visit this page to complete a one-time informational form. On
 ce that has been submitted\, you can return to that page any time to req
 uest a performance spot in any of our venues. \n\n\n\nIf you perform onl
 y at our Zoom Open Mics\, we'd still love to know a little about you. An
 d we'd like to point you to our Setup Guidelines for Every Saturday Virt
 ual Open Mic performers. \n\n\n\nWant to Know More?\n\n\n\n\nVisit our w
 ebsite frequently\n\n\n\nSign up for our mailing list\, right column of 
 every page of our site\, and \n\n\n\nCheck out Off Square Music on Faceb
 ook (@offsquaremusic.org)\, Twitter (@OffSquareMusic) and Instagram (off
 squaremusic).\n\n\n\n\nImportant note to all performers and attendees\n\
 n\n\nMasks and vaccinations&nbsp\;recommended&nbsp\;but&nbsp\;not requir
 ed.&nbsp\;please be thoughtful.\n\n\n\nLast But Not Least . . . \n\n\n\n
 Watch for posts HERE with details\, updates\, performer lists\, and than
 k yous.
URL;VALUE=URI:https://offsquaremusic.org/cal-events/july-stage-left-cafe
 -open-mic-suzy-schwartz-featured/
UID:urn:uuid:6f14f935-9ab0-442b-a5dd-6cff88d0ce27
STATUS:CONFIRMED
ORGANIZER:
DTSTAMP:20260425T190256Z
DTSTART;TZID=America/Chicago:20230715T190000
DTEND;TZID=America/Chicago:20230715T230000
LOCATION:125 W. Van Buren St.
END:VEVENT
END:VCALENDAR