BEGIN:VCALENDAR
METHOD:PUBLISH
VERSION:2.0
CALSCALE:GREGORIAN
PRODID:-//NONSGML WPForms//NONSGML Sugar Calendar Feeds v3.11.0//EN
X-WR-CALNAME:Music at the Market - Jim Fine | Suzy Schwartz
X-WR-CALDESC:Off Square Music
X-WR-TIMEZONE:America/Chicago
BEGIN:VTIMEZONE
TZID:America/Chicago
BEGIN:DAYLIGHT
TZOFFSETFROM:-0600
TZOFFSETTO:-0500
DTSTART:20230312T080000
TZNAME:CDT
END:DAYLIGHT
END:VTIMEZONE
BEGIN:VTIMEZONE
TZID:America/Chicago
BEGIN:DAYLIGHT
TZOFFSETFROM:-0600
TZOFFSETTO:-0500
DTSTART:20230312T080000
TZNAME:CDT
END:DAYLIGHT
END:VTIMEZONE
BEGIN:VEVENT
SUMMARY:Music at the Market - Jim Fine | Suzy Schwartz
DESCRIPTION:MUSIC AT THE MARKET\n\n\n\n\n\n\n\nMusic at the Market\, bro
 ught to you by Off Square Music\, is a parade of wonderful performers at
  the Woodstock Farmers Market. What a great way to shop for local season
 al produce and locally crafted items\, enjoying the music while you gree
 t friends.\n\n\n\nEvery week we feature musical performances from local 
 artists. The music styles range from country to pop to jazz. Many are so
 lo performances but we also have several full bands. We’ve had perform
 ers from as far away as Germany play for us at the Square.\n\n\n\n\n\n\n
 \nCheck our HOME PAGE and HERE for monthly posts with the weekly perform
 ance schedules.\n\n\n\n\n\n\n\nWoodstock Farmers Market summer season\n\
 n\n\nThe Woodstock Farmers Market&nbsp\;has vendors surrounding the Hist
 oric Woodstock Square on all four sides as well as throughout the park i
 n the center of the Square. Saturday market runs from April-October\, an
 d Tuesday market runs from June-September. Market hours are 8 a.m.-1 p.m
 . We are a&nbsp\;Producers Only Market\, meaning everything you purchase
  is grown or produced directly by the vendor you are purchasing from.\n\
 n\n\nWoodstock Farmers Market winter season\n\n\n\nThe Woodstock Farmers
  Market&nbsp\;winter market is held in Building “D” at the McHenry C
 ounty Fairgrounds. Along with our usual farm market offerings\, we will 
 have several Artisans at each market. The market runs mid-October throug
 h April on select Saturdays. Market hours are 9 a.m. to 1 p.m.\n\n\n\nTh
 e winter market gathers on select Saturdays in Building “D” at the M
 cHenry County Fairgrounds.&nbsp\;\n\n\n\nHope to see you at the Market!
URL;VALUE=URI:https://offsquaremusic.org/cal-events/music-at-the-market-
 jim-fine-suzy-schwartz/
UID:urn:uuid:dc3980eb-b470-4c95-92e7-492a2f1cd300
STATUS:CONFIRMED
ORGANIZER:
DTSTAMP:20260425T134104Z
DTSTART;TZID=America/Chicago:20230815T090000
DTEND;TZID=America/Chicago:20230815T130000
LOCATION:Cass & Van Buren Sts.
END:VEVENT
END:VCALENDAR