BEGIN:VCALENDAR
METHOD:PUBLISH
VERSION:2.0
CALSCALE:GREGORIAN
PRODID:-//NONSGML WPForms//NONSGML Sugar Calendar Feeds v3.11.0//EN
X-WR-CALNAME:New Year’s Eve Party 2024 | Annual Fundraiser | Stage Lef
 t Cafe
X-WR-CALDESC:Off Square Music
X-WR-TIMEZONE:America/Chicago
BEGIN:VTIMEZONE
TZID:America/Chicago
BEGIN:STANDARD
TZOFFSETFROM:-0500
TZOFFSETTO:-0600
DTSTART:20231105T070000
TZNAME:CST
END:STANDARD
END:VTIMEZONE
BEGIN:VTIMEZONE
TZID:America/Chicago
BEGIN:STANDARD
TZOFFSETFROM:-0500
TZOFFSETTO:-0600
DTSTART:20231105T070000
TZNAME:CST
END:STANDARD
END:VTIMEZONE
BEGIN:VEVENT
SUMMARY:New Year’s Eve Party 2024 | Annual Fundraiser | Stage Left Caf
 e
DESCRIPTION:New Year’s Eve Party 2024 | Annual Fundraiser! Join us for
  some great music\, friends\, fun\, pizza and champagne\,&nbsp\;Sunday\,
  December 31\, 2023\, 8:00 pm CST –&nbsp\;Monday\, January 1\, 2024\, 
 12:00 am CST. We’ll gather at Stage Left Cafe.\n\n\n\nYou will need a 
 reservation to join the fun.&nbsp\;Attendance is free of charge!&nbsp\;Y
 up\, you got that right! No charge for another wonderful Off Square Musi
 c evening out with pizza and champagne.\n\n\n\nWe will greatly appreciat
 e your generous contributions\, though\, to help support not only this N
 ew Year’s Eve event but our Off Square Music program throughout the ye
 ar. This is our primary fundraiser for the year\, so we will appreciate 
 your generous contributions.\n\n\n\n\n\n\n\n\nClick Here to Make a Reser
 vation\n\n\n\n\n\n\n\n\nNew Year’s Eve Party 2024 – It’s the Event
  of the Season!\n\n\n\nJoin in the fun as we welcome 2024 (wow!) in typi
 cal Off Square Music style with Rich Prezioso and Jacquie Manning of Sma
 ll Potatoes. As usual we’ll have lots of great live entertainment\, de
 licious pizza\, and champagne.\n\n\n\nThe open mic begins at 8:00 pm CST
 . We serve up delicious pizza at 8:15 pm CST and champagne at midnight. 
 We will also have non-alcoholic champagne.\n\n\n\nAgain\,&nbsp\;reservat
 ions for this gala celebration at Stage Left Cafe are FREE\, but please 
 plan to make a donation at the event to support Off Square Music.\n\n\n\
 nOff Square Music Annual Fundraiser\n\n\n\nOff Square Music is the heart
  of music energy in Woodstock. We bring weekly music to the award-winnin
 g Woodstock Farmers Market. We offer two live (and on Zoom) open mics ea
 ch month and a virtual open mic every Saturday evening. On a series of s
 ummer Sundays\, we offer concerts on the Square. And that’s not to men
 tion all our special concerts and events. We rely on community support t
 o bring you these activities.\n\n\n\nWant to showcase your own songwriti
 ng\, poetry and musical talents to a very welcoming and creative communi
 ty? We provide the venues.&nbsp\;Read all about Off Square Music’s act
 ivities throughout the year.\n\n\n\nHow to Join the Celebration&nbsp\;\n
 \n\n\nMake your reservation! If you are already on the Off Square Music 
 mailing list\, you’ll get a reminder email for this event\, live at St
 age Left Cafe. If you would like to join our mailing list\, then visit o
 ur&nbsp\;website&nbsp\;and sign yourself up. That way you’ll also get 
 a reminder email!\n\n\n\n\n\n\n\n\nClick Here to Make a Reservation\n\n\
 n\n\n\n\n\n\nHow to Perform\n\n\n\nIf you’d like to perform at the New
  Year’s Eve Party 2024\, it’s the same process as for all Off Square
  Music events. Please visit&nbsp\;our sign-up page&nbsp\;and fill out th
 e form. You can also connect directly with the event organizer\, in this
  case\, Keith Johnson (keith@offsquaremusic.org).\n\n\n\nWe love our per
 formers and want to promote and support you in the best way possible in 
 all our venues. If you haven’t already submitted the Performer Informa
 tion Form\, please take this next step: Sign Up To Perform.\n\n\n\n\n\n\
 n\n\nSign Up To Perform\n\n\n\n\n\n\n\n\nWe will connect with you as soo
 n as possible to coordinate the details of your performance.\n\n\n\n\n\n
 \n\nWatch for more information HERE with details\, updates\, performer l
 ists\, and thank yous.
URL;VALUE=URI:https://offsquaremusic.org/cal-events/new-years-eve-party-
 2024-annual-fundraiser-stage-left-cafe/
UID:urn:uuid:671d9a79-7d46-44ca-9892-7aad0b54ebf1
STATUS:CONFIRMED
ORGANIZER:
DTSTAMP:20260424T202444Z
DTSTART;TZID=America/Chicago:20231231T200000
DTEND;TZID=America/Chicago:20231231T235900
LOCATION:125 W. Van Buren St.
END:VEVENT
END:VCALENDAR