BEGIN:VCALENDAR
METHOD:PUBLISH
VERSION:2.0
CALSCALE:GREGORIAN
PRODID:-//NONSGML WPForms//NONSGML Sugar Calendar Feeds v3.11.0//EN
X-WR-CALNAME:No Sundays on the Square This Week
X-WR-CALDESC:Off Square Music
X-WR-TIMEZONE:America/Chicago
BEGIN:VTIMEZONE
TZID:America/Chicago
BEGIN:DAYLIGHT
TZOFFSETFROM:-0600
TZOFFSETTO:-0500
DTSTART:20230312T080000
TZNAME:CDT
END:DAYLIGHT
END:VTIMEZONE
BEGIN:VTIMEZONE
TZID:America/Chicago
BEGIN:DAYLIGHT
TZOFFSETFROM:-0600
TZOFFSETTO:-0500
DTSTART:20230312T080000
TZNAME:CDT
END:DAYLIGHT
END:VTIMEZONE
BEGIN:VEVENT
SUMMARY:No Sundays on the Square This Week
DESCRIPTION:We're all out enjoying the Woodstock Folk Festival in the sa
 me location! Hope to see you there.
URL;VALUE=URI:https://offsquaremusic.org/cal-events/no-sundays-on-the-sq
 uare-this-week/
UID:urn:uuid:e7dc20f3-c39d-421c-9ef5-855ab2a97234
STATUS:CONFIRMED
ORGANIZER:
DTSTAMP:20260426T020411Z
DTSTART;TZID=America/Chicago:20230716T120000
DTEND;TZID=America/Chicago:20230716T180000
LOCATION:Cass & Van Buren Sts.
END:VEVENT
END:VCALENDAR