BEGIN:VCALENDAR
METHOD:PUBLISH
VERSION:2.0
CALSCALE:GREGORIAN
PRODID:-//NONSGML WPForms//NONSGML Sugar Calendar Feeds v3.11.0//EN
X-WR-CALNAME:Stage Left Cafe Open Mic | Canceled due to Severe Weather
X-WR-CALDESC:Off Square Music
X-WR-TIMEZONE:America/Chicago
BEGIN:VTIMEZONE
TZID:America/Chicago
BEGIN:STANDARD
TZOFFSETFROM:-0500
TZOFFSETTO:-0600
DTSTART:20231105T070000
TZNAME:CST
END:STANDARD
END:VTIMEZONE
BEGIN:VTIMEZONE
TZID:America/Chicago
BEGIN:STANDARD
TZOFFSETFROM:-0500
TZOFFSETTO:-0600
DTSTART:20231105T070000
TZNAME:CST
END:STANDARD
END:VTIMEZONE
BEGIN:VEVENT
SUMMARY:Stage Left Cafe Open Mic | Canceled due to Severe Weather
DESCRIPTION:Stage Left Cafe Open Mic meets on the 2nd FRIDAY of every mo
 nth from 7 – 11 pm&nbsp\;at Stage Left Cafe\, 125 Van Buren St. on the
  historic Woodstock Square.\n\n\n\nThese Open Mics\, brought to you by&n
 bsp\;Off Square Music\,&nbsp\;are monthly events in Woodstock. Performer
 s — musicians\, singers\, poets and others — come together to connec
 t with a live audience in a wonderful\, family-friendly environment.\n\n
 \n\nWhether you’re just starting out as a performer or are a seasoned 
 veteran\, our audience provides a supportive atmosphere. Stage Left\, pa
 rt of the&nbsp\;Woodstock Opera House\, adds to that ambiance with an ex
 ceptional performance space and sound system.\n\n\n\nOff Square requests
  a $5.00/pp donation to support our many music activities\, including th
 ese Stage Left Open Mic nights. Proof of vaccination is required as well
  as masks except when performing\, eating\, or drinking.\n\n\n\nWant to 
 perform at a Stage Left Cafe Open Mic? Here's how:\n\n\n\nIf you haven't
  already\, please visit this page to complete a one-time informational f
 orm. Once that has been submitted\, you can return to that page any time
  to request a performance spot in any of our venues. \n\n\n\nIf you perf
 orm only at our Zoom Open Mics\, we'd still love to know a little about 
 you. And we'd like to point you to our Setup Guidelines for Every Saturd
 ay Virtual Open Mic performers. \n\n\n\nWant to Know More?\n\n\n\n\nVisi
 t our website frequently\n\n\n\nSign up for our mailing list\, right col
 umn of every page of our site\, and \n\n\n\nCheck out Off Square Music o
 n Facebook (@offsquaremusic.org)\, Twitter (@OffSquareMusic) and Instagr
 am (offsquaremusic).\n\n\n\n\nImportant note to all performers and atten
 dees\n\n\n\nMasks and vaccinations&nbsp\;recommended&nbsp\;but&nbsp\;not
  required.&nbsp\;please be thoughtful.\n\n\n\nLast But Not Least . . . \
 n\n\n\nWatch for posts HERE with details and updates.
URL;VALUE=URI:https://offsquaremusic.org/cal-events/stage-left-cafe-open
 -mic-canceled-due-to-severe-weather/
UID:urn:uuid:7f3cc456-70ec-46d5-b8cb-c9b0dc35441b
STATUS:CONFIRMED
ORGANIZER:
DTSTAMP:20260425T111959Z
DTSTART;TZID=America/Chicago:20240112T190000
DTEND;TZID=America/Chicago:20240112T230000
LOCATION:125 W. Van Buren St.
END:VEVENT
END:VCALENDAR