BEGIN:VCALENDAR
METHOD:PUBLISH
VERSION:2.0
CALSCALE:GREGORIAN
PRODID:-//NONSGML WPForms//NONSGML Sugar Calendar Feeds v3.11.0//EN
X-WR-CALNAME:Stage Left Cafe Open Mic | Features Merv Collins
X-WR-CALDESC:Off Square Music
X-WR-TIMEZONE:America/Chicago
BEGIN:VTIMEZONE
TZID:America/Chicago
BEGIN:DAYLIGHT
TZOFFSETFROM:-0500
TZOFFSETTO:-0500
DTSTART:20230414T070000
TZNAME:CDT
END:DAYLIGHT
END:VTIMEZONE
BEGIN:VTIMEZONE
TZID:America/Chicago
BEGIN:DAYLIGHT
TZOFFSETFROM:-0500
TZOFFSETTO:-0500
DTSTART:20230414T070000
TZNAME:CDT
END:DAYLIGHT
END:VTIMEZONE
BEGIN:VEVENT
SUMMARY:Stage Left Cafe Open Mic | Features Merv Collins
DESCRIPTION:The Stage Left Open Mic meets on the 2nd FRIDAY of every mon
 th from 7 – 11 pm&nbsp\;at Stage Left Cafe\, 125 Van Buren St. on the 
 historic Woodstock Square.\n\n\n\nThese Open Mics\, brought to you by&nb
 sp\;Off Square Music\,&nbsp\;are monthly events in Woodstock. Performers
  — musicians\, singers\, poets and others — come together to connect
  with a live audience in a wonderful\, family-friendly environment.\n\n\
 n\nWhether you’re just starting out as a performer or are a seasoned v
 eteran\, our audience provides a supportive atmosphere. Stage Left\, par
 t of the&nbsp\;Woodstock Opera House\, adds to that ambiance with an exc
 eptional performance space and sound system.\n\n\n\nOff Square requests 
 a $5.00/pp donation to support our many music activities\, including the
 se Stage Left Open Mic nights. Proof of vaccination is required as well 
 as masks except when performing\, eating\, or drinking.\n\n\n\nWant to p
 erform? Here's how:\n\n\n\nIf you haven't already\, please visit this pa
 ge to complete a one-time informational form. Once that has been submitt
 ed\, you can return to that page any time to request a performance spot 
 in any of our venues. \n\n\n\nIf you perform only at our Zoom Open Mics\
 , we'd still love to know a little about you. And we'd like to point you
  to our Setup Guidelines for Every Saturday Virtual Open Mic performers.
  \n\n\n\nWant to Know More?\n\n\n\n\nVisit our website frequently\n\n\n\
 nSign up for our mailing list\, right column of every page of our site\,
  and \n\n\n\nCheck out Off Square Music on Facebook (@offsquaremusic.org
 )\, Twitter (@OffSquareMusic) and Instagram (offsquaremusic).\n\n\n\n\nI
 mportant note to all performers and attendees\n\n\n\nMasks and vaccinati
 ons&nbsp\;recommended&nbsp\;but&nbsp\;not required.&nbsp\;please be thou
 ghtful.\n\n\n\nLast But Not Least . . . \n\n\n\nWatch for posts HERE wit
 h details\, updates\, performer lists\, and thank yous.
URL;VALUE=URI:https://offsquaremusic.org/cal-events/stage-left-cafe-open
 -mic-features-merv-collins/
UID:urn:uuid:29342937-aa0d-427f-a570-a95a2291e63f
STATUS:CONFIRMED
ORGANIZER:
DTSTAMP:20260424T190805Z
DTSTART;TZID=America/Chicago:20231013T190000
DTEND;TZID=America/Chicago:20231013T230000
LOCATION:125 W. Van Buren St.
END:VEVENT
END:VCALENDAR