BEGIN:VCALENDAR
METHOD:PUBLISH
VERSION:2.0
CALSCALE:GREGORIAN
PRODID:-//NONSGML WPForms//NONSGML Sugar Calendar Feeds v3.11.0//EN
X-WR-CALNAME:Stage Left Cafe Open Mic Featuring Just In Time
X-WR-CALDESC:Off Square Music
X-WR-TIMEZONE:America/Chicago
BEGIN:VTIMEZONE
TZID:America/Chicago
BEGIN:STANDARD
TZOFFSETFROM:-0500
TZOFFSETTO:-0600
DTSTART:20231105T070000
TZNAME:CST
END:STANDARD
END:VTIMEZONE
BEGIN:VTIMEZONE
TZID:America/Chicago
BEGIN:STANDARD
TZOFFSETFROM:-0500
TZOFFSETTO:-0600
DTSTART:20231105T070000
TZNAME:CST
END:STANDARD
END:VTIMEZONE
BEGIN:VEVENT
SUMMARY:Stage Left Cafe Open Mic Featuring Just In Time
DESCRIPTION:Stage Left Cafe Open Mic featuring Just In Time meets March 
 8\, 2024\, 7:00 – 10:00 pm&nbsp\;at Stage Left Cafe\, 125 Van Buren St
 . on the historic Woodstock Square. \n\n\n\nThese Open Mics\, brought to
  you by&nbsp\;Off Square Music\,&nbsp\;are monthly events in Woodstock. 
 Performers — musicians\, singers\, poets and others — come together 
 to connect with a live audience in a wonderful\, family-friendly environ
 ment.\n\n\n\nWhether you’re just starting out as a performer or are a 
 seasoned veteran\, our audience provides a supportive atmosphere. Stage 
 Left\, part of the&nbsp\;Woodstock Opera House\, adds to that ambiance w
 ith an exceptional performance space and sound system.\n\n\n\nOff Square
  requests a $5.00/pp donation to support our many music activities\, inc
 luding these Stage Left Open Mic nights. Proof of vaccination is require
 d as well as masks except when performing\, eating\, or drinking.\n\n\n\
 nWant to perform at a Stage Left Cafe Open Mic? Here's how:\n\n\n\nIf yo
 u haven't already\, please visit this page to complete a one-time inform
 ational form. Once that has been submitted\, you can return to that page
  any time to request a performance spot in any of our venues. \n\n\n\nIf
  you perform only at our Zoom Open Mics\, we'd still love to know a litt
 le about you. And we'd like to point you to our Setup Guidelines for Eve
 ry Saturday Virtual Open Mic performers. \n\n\n\nWant to Know More?\n\n\
 n\n\nVisit our website frequently\n\n\n\nSign up for our mailing list\, 
 right column of every page of our site\, and \n\n\n\nCheck out Off Squar
 e Music on Facebook (@offsquaremusic.org)\, Twitter (@OffSquareMusic) an
 d Instagram (offsquaremusic).\n\n\n\n\nImportant note to all performers 
 and attendees\n\n\n\nMasks and vaccinations&nbsp\;recommended&nbsp\;but&
 nbsp\;not required.&nbsp\;please be thoughtful.\n\n\n\nLast But Not Leas
 t . . . \n\n\n\nWatch for posts HERE with details and updates.
URL;VALUE=URI:https://offsquaremusic.org/cal-events/stage-left-cafe-open
 -mic-featuring-just-in-time/
UID:urn:uuid:c1a4388f-cc95-4624-90ea-aedf40d5c29b
STATUS:CONFIRMED
ORGANIZER:
DTSTAMP:20260425T181408Z
DTSTART;TZID=America/Chicago:20240308T190000
DTEND;TZID=America/Chicago:20240308T220000
LOCATION:125 W. Van Buren St.
END:VEVENT
END:VCALENDAR