BEGIN:VCALENDAR
METHOD:PUBLISH
VERSION:2.0
CALSCALE:GREGORIAN
PRODID:-//NONSGML WPForms//NONSGML Sugar Calendar Feeds v3.11.0//EN
X-WR-CALNAME:Stage Left Cafe Open Mic in April Features Pam Curtis
X-WR-CALDESC:Off Square Music
X-WR-TIMEZONE:America/Chicago
BEGIN:VTIMEZONE
TZID:America/Chicago
BEGIN:STANDARD
TZOFFSETFROM:-0500
TZOFFSETTO:-0600
DTSTART:20231105T070000
TZNAME:CST
END:STANDARD
BEGIN:DAYLIGHT
TZOFFSETFROM:-0600
TZOFFSETTO:-0500
DTSTART:20240310T080000
TZNAME:CDT
END:DAYLIGHT
END:VTIMEZONE
BEGIN:VTIMEZONE
TZID:America/Chicago
BEGIN:STANDARD
TZOFFSETFROM:-0500
TZOFFSETTO:-0600
DTSTART:20231105T070000
TZNAME:CST
END:STANDARD
BEGIN:DAYLIGHT
TZOFFSETFROM:-0600
TZOFFSETTO:-0500
DTSTART:20240310T080000
TZNAME:CDT
END:DAYLIGHT
END:VTIMEZONE
BEGIN:VEVENT
SUMMARY:Stage Left Cafe Open Mic in April Features Pam Curtis
DESCRIPTION:Stage Left Cafe Open Mic in April features Pam Curtis. We ga
 ther on the 2nd FRIDAY of every month from 7 – 10 pm&nbsp\;at Stage Le
 ft Cafe\, 125 Van Buren St. on the historic Woodstock Square.\n\n\n\nThe
 se Open Mics\, brought to you by&nbsp\;Off Square Music\,&nbsp\;are mont
 hly events in Woodstock. Performers — musicians\, singers\, poets and 
 others — come together to connect with a live audience in a wonderful\
 , family-friendly environment.\n\n\n\nWhether you’re just starting out
  as a performer or are a seasoned veteran\, our audience provides a supp
 ortive atmosphere. Stage Left\, part of the&nbsp\;Woodstock Opera House\
 , adds to that ambiance with an exceptional performance space and sound 
 system.\n\n\n\nOff Square requests a $5.00/pp donation to support our ma
 ny music activities\, including these Stage Left Open Mic nights. Proof 
 of vaccination is required as well as masks except when performing\, eat
 ing\, or drinking.\n\n\n\nWant to perform at a Stage Left Cafe Open Mic?
  Here's how:\n\n\n\nIf you haven't already\, please visit this page to c
 omplete a one-time informational form. Once that has been submitted\, yo
 u can return to that page any time to request a performance spot in any 
 of our venues. \n\n\n\nIf you perform only at our Zoom Open Mics\, we'd 
 still love to know a little about you. And we'd like to point you to our
  Setup Guidelines for Every Saturday Virtual Open Mic performers. \n\n\n
 \nWant to Know More?\n\n\n\n\nVisit our website frequently\n\n\n\nSign u
 p for our mailing list\, right column of every page of our site\, and \n
 \n\n\nCheck out Off Square Music on Facebook (@offsquaremusic.org)\, Twi
 tter (@OffSquareMusic) and Instagram (offsquaremusic).\n\n\n\n\nImportan
 t note to all performers and attendees\n\n\n\nMasks and vaccinations&nbs
 p\;recommended&nbsp\;but&nbsp\;not required.&nbsp\;please be thoughtful.
 \n\n\n\nLast But Not Least . . . \n\n\n\nWatch for posts HERE with detai
 ls and updates.
URL;VALUE=URI:https://offsquaremusic.org/cal-events/stage-left-cafe-open
 -mic-in-april-features-pam-curtis/
UID:urn:uuid:23023903-8c0a-4077-b1b2-bdafc1e3291a
STATUS:CONFIRMED
ORGANIZER:
DTSTAMP:20260425T211643Z
DTSTART;TZID=America/Chicago:20240412T190000
DTEND;TZID=America/Chicago:20240412T220000
LOCATION:125 W. Van Buren St.
END:VEVENT
END:VCALENDAR