BEGIN:VCALENDAR
METHOD:PUBLISH
VERSION:2.0
CALSCALE:GREGORIAN
PRODID:-//NONSGML WPForms//NONSGML Sugar Calendar Feeds v3.11.0//EN
X-WR-CALNAME:Stage Left Cafe Open Mic | James Jewell
X-WR-CALDESC:Off Square Music
X-WR-TIMEZONE:America/Chicago
BEGIN:VTIMEZONE
TZID:America/Chicago
BEGIN:DAYLIGHT
TZOFFSETFROM:-0600
TZOFFSETTO:-0500
DTSTART:20240310T080000
TZNAME:CDT
END:DAYLIGHT
END:VTIMEZONE
BEGIN:VTIMEZONE
TZID:America/Chicago
BEGIN:DAYLIGHT
TZOFFSETFROM:-0600
TZOFFSETTO:-0500
DTSTART:20240310T080000
TZNAME:CDT
END:DAYLIGHT
END:VTIMEZONE
BEGIN:VEVENT
SUMMARY:Stage Left Cafe Open Mic | James Jewell
DESCRIPTION:Stage Left Cafe Open Mic meets on the 2nd FRIDAY of every mo
 nth from 7 – 10 pm&nbsp\;at Stage Left Cafe\, 125 Van Buren St. on the
  historic Woodstock Square.\n\n\n\nThese Open Mics\, brought to you by&n
 bsp\;Off Square Music\,&nbsp\;are monthly events in Woodstock. Performer
 s — musicians\, singers\, poets and others — come together to connec
 t with a live audience in a wonderful\, family-friendly environment.\n\n
 \n\nWhether you’re just starting out as a performer or are a seasoned 
 veteran\, our audience provides a supportive atmosphere. Stage Left\, pa
 rt of the&nbsp\;Woodstock Opera House\, adds to that ambiance with an ex
 ceptional performance space and sound system.\n\n\n\nOff Square requests
  a $5.00/pp donation to support our many music activities\, including th
 ese Stage Left Open Mic nights. Proof of vaccination is required as well
  as masks except when performing\, eating\, or drinking.\n\n\n\nStage Le
 ft Cafe Open Mic - Want to Perform? Here's how:\n\n\n\nIf you haven't al
 ready\, please visit this page to complete a one-time informational form
 . Once that has been submitted\, you can return to that page any time to
  request a performance spot in any of our venues. \n\n\n\nIf you perform
  only at our Zoom Open Mics\, we'd still love to know a little about you
 . And we'd like to point you to our Setup Guidelines for Every Saturday 
 Virtual Open Mic performers. \n\n\n\nWant to Know More?\n\n\n\n\nVisit o
 ur website frequently\n\n\n\nSign up for our mailing list\, right column
  of every page of our site\, and \n\n\n\nCheck out Off Square Music on F
 acebook (@offsquaremusic.org)\, Twitter (@OffSquareMusic) and Instagram 
 (offsquaremusic).\n\n\n\n\nImportant note to all performers and attendee
 s\n\n\n\nMasks and vaccinations&nbsp\;recommended&nbsp\;but&nbsp\;not re
 quired.&nbsp\;please be thoughtful.\n\n\n\nLast But Not Least . . . \n\n
 \n\nWatch for posts HERE with details and updates.
URL;VALUE=URI:https://offsquaremusic.org/cal-events/stage-left-cafe-open
 -mic-james-jewell/
UID:urn:uuid:bc362969-7838-4a74-ada8-be47f43ff92b
STATUS:CONFIRMED
ORGANIZER:
DTSTAMP:20260425T224308Z
DTSTART;TZID=America/Chicago:20240510T190000
DTEND;TZID=America/Chicago:20240510T220000
LOCATION:125 W. Van Buren St.
END:VEVENT
END:VCALENDAR