BEGIN:VCALENDAR
METHOD:PUBLISH
VERSION:2.0
CALSCALE:GREGORIAN
PRODID:-//NONSGML WPForms//NONSGML Sugar Calendar Feeds v3.11.0//EN
X-WR-CALNAME:Sundays on the Square Features Dave Rudolf
X-WR-CALDESC:Off Square Music
X-WR-TIMEZONE:America/Chicago
BEGIN:VTIMEZONE
TZID:America/Chicago
BEGIN:DAYLIGHT
TZOFFSETFROM:-0600
TZOFFSETTO:-0500
DTSTART:20230312T080000
TZNAME:CDT
END:DAYLIGHT
END:VTIMEZONE
BEGIN:VTIMEZONE
TZID:America/Chicago
BEGIN:DAYLIGHT
TZOFFSETFROM:-0600
TZOFFSETTO:-0500
DTSTART:20230312T080000
TZNAME:CDT
END:DAYLIGHT
END:VTIMEZONE
BEGIN:VEVENT
SUMMARY:Sundays on the Square Features Dave Rudolf
DESCRIPTION:Sundays on the Square features Dave Rudolf. This is a series
  that began in June and continues with weekly concerts into September. P
 lan to get together with your friends on the historic Woodstock Town Squ
 are for an evening (5-7 pm CDT) to celebrate music\, summer\, fun\, and 
 friends.&nbsp\;Read more below about Sundays on the Square\, one of the 
 best things about summer -- and it's FREE!\n\n\n\nWe will enjoy these co
 ncerts in AUGUST: \n\n\n\n\nAugust 6| Joe Filisko &amp\; Eric Noden\n\n\
 n\nAugust 13 | Dave Rudolf\n\n\n\nAugust 20 | The Lucky Pickers\n\n\n\nA
 ugust 27 | Jonas Friddle Trio&nbsp\;\n\n\n\n\nAugust 13 | Dave Rudolf\n\
 n\n\nAbout Dave Rudolf\n\n\n\nDave Rudolf is a long-time performer and a
  multi-award winning singer/songwriter.\n\n\n\nSundays on the Square fea
 tures Dave Rudolf\, a long-time performer and a multi-award winning sing
 er/songwriter who just released his 42nd&nbsp\;album. And being the busy
  little beaver that he is\, he’s at work on his 43rd and 44th albums.\
 n\n\n\nDave is a Gold Record\, Grammy-nominated artist\, 15-time nominee
  for Entertainer of the Year awards from&nbsp\;NACA (The National Associ
 ation for Campus Activities) and has 42 albums\, many of which have won 
 various awards. In the last 6 years\, four of Dave's albums landed in th
 e NPR Indiana and Illinois regional Top Ten. \n\n\n\nDave is also an awa
 rd-winning children's author with three children's books. He wrote for D
 isney\, did a TV pilot for the All-New Captain Kangaroo several years ba
 ck\, wrote for Second City\, had his songs in movies\, TV shows\, indust
 rial films\, and more.\n\n\n\nDave shared the stage with The Beach Boys\
 , The Everly Brothers\, The Mamas and Papas\, Steve Goodman\, John Hartf
 ord\, The Smothers Brothers\, Michael Smith\, Megon McDonough\, The Gatl
 in Brothers\, Sha Na Na\, and weirdly back in the day\, Cheech and Chong
  to name a few.\n\n\n\nDave's latest CDs are getting national airplay on
  various radio stations throughout the country. He also has writing work
 shops and music biz workshops should you be interested. Dave is currentl
 y touring in support of his new CD.\n\n\n\nREAD MORE ABOUT DAVE RUDOLF H
 ERE - AND LISTEN TO MUSIC SAMPLES HERE.\n\n\n\nSundays on the Square –
  celebrate music &amp\; summer outdoors\n\n\n\nSundays on the Square&nbs
 p\;in 2023 run every Sunday\, June 25 – Sept 3\, except for July 16 (t
 he Woodstock Folk Festival is always scheduled the third Sunday in July)
 .\n\n\n\nEnjoy some great bands from 5:00 – 7:00 pm CDT. We gather on 
 the&nbsp\;historic Woodstock Square\, Cass &amp\; Van Buren Streets\, Wo
 odstock&nbsp\;IL&nbsp\;60098. Shows vary\, some with one and some with t
 wo acts\, featuring local\, regional\, and national talent.&nbsp\;\n\n\n
 \nRestaurants on the Square are usually open on these evenings with carr
 y-out items\, but please confirm with specific places. Of course you can
  bring your own food items and picnic on the Square. Also\, be sure to b
 ring chairs!\n\n\n\nSunday evenings on the Square are always a memorable
  part of summer in the Woodstock area. Watch this website for updates an
 d specifics on the bands. Better yet\, subscribe to our email list if yo
 u aren’t already on it!\n\n\n\nWatch our website for details about upc
 oming performers:\n\n\n\n\nAugust 20 | The Lucky Pickers\n\n\n\nAugust 2
 7 | Jonas Friddle Trio&nbsp\;\n\n\n\nSeptember 3 | Hot Lagarto&nbsp\; \n
 \n\n\n\nFor the entire Summer 2023 Schedule\, check HERE.\n\n\n\nDonatio
 ns cheerfully accepted\n\n\n\nWe appreciate your contributions in suppor
 t of music in Woodstock. You may contribute to Off Square Music and also
  to specific performers using the buttons in the left column of most pag
 es on this site.\n\n\n\nBrought to you by...\n\n\n\nThese FREE summer co
 ncerts are brought to you by Off Square Music\, the Woodstock Opera Hous
 e\, the City of Woodstock\, and the Woodstock Hotel/Motel Tax Grants to 
 the Arts -- as well as your generous donations. It truly takes a village
  (and a state\, and a few cities\, a couple of guys with wagons and an i
 ce cream vendor).
URL;VALUE=URI:https://offsquaremusic.org/cal-events/sundays-on-the-squar
 e-features-dave-rudolf/
UID:urn:uuid:dd800b48-f3aa-4a42-b56e-2ce5a21396f0
STATUS:CONFIRMED
ORGANIZER:
DTSTAMP:20260425T221222Z
DTSTART;TZID=America/Chicago:20230813T170000
DTEND;TZID=America/Chicago:20230813T190000
LOCATION:Cass & Van Buren Sts.
END:VEVENT
END:VCALENDAR