BEGIN:VCALENDAR
METHOD:PUBLISH
VERSION:2.0
CALSCALE:GREGORIAN
PRODID:-//NONSGML WPForms//NONSGML Sugar Calendar Feeds v3.11.0//EN
X-WR-CALNAME:Sundays on the Square Features Hot Lagarto
X-WR-CALDESC:Off Square Music
X-WR-TIMEZONE:America/Chicago
BEGIN:VTIMEZONE
TZID:America/Chicago
BEGIN:DAYLIGHT
TZOFFSETFROM:-0600
TZOFFSETTO:-0500
DTSTART:20240310T080000
TZNAME:CDT
END:DAYLIGHT
END:VTIMEZONE
BEGIN:VTIMEZONE
TZID:America/Chicago
BEGIN:DAYLIGHT
TZOFFSETFROM:-0600
TZOFFSETTO:-0500
DTSTART:20240310T080000
TZNAME:CDT
END:DAYLIGHT
END:VTIMEZONE
BEGIN:VEVENT
SUMMARY:Sundays on the Square Features Hot Lagarto
DESCRIPTION:Sundays on the Square Features Hot Lagarto June 2\, the star
 t of our 2024 season! Performance is 5:00 - 7:00 pm CDT\, and there's mo
 re ... read on!\n\n\n\nSundays on the Square in 2024 run the first Sunda
 y of every month\, June 2 - September 1. Enjoy great bands and other fun
  stuff from 5:00 - 7:00 pm on the historic Woodstock Square\, Cass &amp\
 ; Van Buren Streets\, Woodstock&nbsp\;IL&nbsp\;60098. &nbsp\;\n\n\n\nSun
 day evenings on the Square are always a memorable part of summer in the 
 Woodstock area. Put the dates on your calendar now\, and we'll look forw
 ard to seeing you there! You can also subscribe to the calendar on this 
 website so it will add Off Square Music dates to your own calendar of ch
 oice.\n\n\n\nSo come on out to enjoy those lazy\, crazy days of summer w
 ith Sundays on the Square\, Sunday\, June 2\, 5:00 - 7:00 pm.\n\n\n\nSun
 days on the Square June 2 features Hot Lagarto\n\n\n\nHot Lagarto combin
 es an eclectic mix of Latin jazz and African-American urban rhythms. Ori
 ginal tunes and versions for a cocktail that combines sticky rhythms and
  everyday reality chants.\n\n\n\nHere's a sample performance from Hot La
 garto for you to enjoy:\n\n\n\n\nhttps://www.youtube.com/watch?v=4-B1sDW
 zGnw\n\n\n\n\nFind out more about Hot Lagarto here:\n\n\n\n\nFacebook:&n
 bsp\;https://www.facebook.com/hotlagartomusic\n\n\n\nYouTube:&nbsp\;http
 s://www.youtube.com/channel/UClfbEMmWmyX8GBEbOTW0HSQ\n\n\n\n\n\n\n\n\nSu
 ndays on the Square in 2024 - Food &amp\; Hempstock Pharms\n\n\n\nIn add
 ition to our great lineup of bands playing from 5:00 - 7:00 pm\, we have
  food and other perks for you. For these special Sundays\, we have arran
 ged these vendors:\n\n\n\n\nJune 2 - TBA\n\n\n\nJuly 7 - Your Sister's T
 omato\n\n\n\nAugust 4 - Sandie Dogs\n\n\n\nSeptember 1 - Sandie Dogs\n\n
 \n\n\nRestaurants on the Square may be open on these evenings and will h
 ave carry-out items\, but please confirm with specific places. Of course
  you can bring your own food items as well!\n\n\n\nAnd one more thing! H
 empstock Pharms Products will be there all four Sundays selling a variet
 y of cannabis products. Read what they say about their product HERE. And
  take a look at some of their products HERE.\n\n\n\nDonations cheerfully
  accepted\n\n\n\nWe appreciate your contributions in support of music in
  Woodstock. You may contribute to Off Square Music and also to specific 
 performers using the buttons in the left column of most pages on this si
 te.\n\n\n\nSundays on the Square\n\n\n\nBrought to you by...\n\n\n\nThes
 e FREE summer concerts are brought to you by Off Square Music\, the Wood
 stock Opera House\, the City of Woodstock\, and the Woodstock Hotel/Mote
 l Tax Grants to the Arts -- as well as your generous donations. It truly
  takes a village.
URL;VALUE=URI:https://offsquaremusic.org/cal-events/sundays-on-the-squar
 e-features-hot-lagarto/
UID:urn:uuid:05fc40b3-1db3-4d1d-8ad3-467407cb90ce
STATUS:CONFIRMED
ORGANIZER:
DTSTAMP:20260426T011200Z
DTSTART;TZID=America/Chicago:20240602T170000
DTEND;TZID=America/Chicago:20240602T190000
LOCATION:Cass & Van Buren Streets
END:VEVENT
END:VCALENDAR