BEGIN:VCALENDAR
METHOD:PUBLISH
VERSION:2.0
CALSCALE:GREGORIAN
PRODID:-//NONSGML WPForms//NONSGML Sugar Calendar Feeds v3.11.0//EN
X-WR-CALNAME:Sundays on the Square Features South for Winter | July 7
X-WR-CALDESC:Off Square Music
X-WR-TIMEZONE:America/Chicago
BEGIN:VTIMEZONE
TZID:America/Chicago
BEGIN:DAYLIGHT
TZOFFSETFROM:-0600
TZOFFSETTO:-0500
DTSTART:20240310T080000
TZNAME:CDT
END:DAYLIGHT
END:VTIMEZONE
BEGIN:VTIMEZONE
TZID:America/Chicago
BEGIN:DAYLIGHT
TZOFFSETFROM:-0600
TZOFFSETTO:-0500
DTSTART:20240310T080000
TZNAME:CDT
END:DAYLIGHT
END:VTIMEZONE
BEGIN:VEVENT
SUMMARY:Sundays on the Square Features South for Winter | July 7
DESCRIPTION:It looks like rain\, so we'll be indoors for this concert! P
 lease join us at Unity Spiritual Center\, at 225 W Calhoun St\, Woodstoc
 k\, IL 60098.\n\n\n\nSundays on the Square featuring South for Winter\, 
 July 7\, is the second performance in our 2024 season! Performance is 5:
 00 - 7:00 pm CDT\, and there's more ... read on!\n\n\n\nSundays on the S
 quare in 2024 run the first Sunday of every month\, June 2 - September 1
 . \n\n\n\nSunday evenings on the Square are always a memorable part of s
 ummer in the Woodstock area. Put the remaining dates on your calendar no
 w\, and we'll look forward to seeing you there! You can also subscribe t
 o the calendar on this website so it will add Off Square Music dates to 
 your own calendar of choice.\n\n\n\nSo come on out to enjoy those lazy\,
  crazy days of summer with Sundays on the Square\, Sunday\, July 7\, 5:0
 0 - 7:00 pm.\n\n\n\nSundays on the Square July 7 features South for Wint
 er\n\n\n\nWith a blend of dreamy acoustic duets\, foot-stomping folk and
  bluesy murder ballads\, trio South for Winter’s sound is as eclectic 
 as their origins. \n\n\n\nComposed of New Zealander Nick Stone\, Colorad
 an Dani Cichon\, and Michigander Alex Stradal\, the three multi-instrume
 ntalists combine elements such as cello\, acoustic guitar\, mandolin\, r
 esonator guitar\, foot percussion\, and three-part harmonies into a genr
 e-bending sound. \n\n\n\nSouth for Winter Accolades\n\n\n\nSouth for Win
 ter has been nominated as:\n\n\n\n\na Finalist for “Best Group/Duo” 
 in the 2023 International Acoustic Music Awards\n\n\n\nSemi-Finalist in 
 the 2023 and 2022 International Songwriting Competition\n\n\n\nOfficial 
 Showcase Artist at South by Southwest Music Festival in 2023\n\n\n\nOffi
 cial Showcase Artist at Folk Alliance International in 2024 and 2022\, a
 nd \n\n\n\n"Most Wanted" emerging artist at Falcon Ridge Festival in 201
 9 \n\n\n\n\nTheir music has been praised by sites such as&nbsp\;American
  Songwriter&nbsp\;("laden with delicate harmonies\, intricate guitar-wor
 k\, and earthy vocals… impeccable sound")\,&nbsp\;No Depression&nbsp\;
 ("must-see artist")\,&nbsp\;For the Love of Bands&nbsp\;("a wonderful mi
 x of indie and folk rock")\,&nbsp\;Grateful Web&nbsp\;("eclectic in the 
 best sense of the word")\, and&nbsp\;AmericanaUK&nbsp\;("an ethereal\, d
 reamy\, journey…a journey well-worth taking"). &nbsp\;\n\n\n\nSouth fo
 r Winter recorded their upcoming sophomore album\,&nbsp\;Of Sea and Sky\
 ,&nbsp\;in Nashville TN alongside multi GRAMMY award-winning producer Ma
 tt Leigh (Willie Nelson\, Sister Sadie). The album - out May 16\, 2024 -
  has already received an outpouring of support\, raising over $21\,000 (
 &gt\;141% of its funding goal) for its upcoming independent release\; ac
 hieving shoutouts from sites like&nbsp\;No Depression Magazine&nbsp\;and
 &nbsp\;Grateful Web\; landing on three Spotify editorial playlists with 
 album singles\; and having airplay from stations such as&nbsp\;WMOT Root
 s Radio&nbsp\;(Murfreesboro TN)\,&nbsp\;WFUV Radio&nbsp\;(NYC)\,&nbsp\;R
 adio New Zealand\, and&nbsp\;WFMT&nbsp\;(Chicago IL).&nbsp\;Between rele
 ases\, the band has toured relentlessly both nationally and internationa
 lly\, bringing audiences to their feet and selling out shows across Belg
 ium\, Luxembourg\, Germany\, Denmark\, Poland\, New Zealand\, and the Un
 ited States.\n\n\n\nFrom https://www.southforwintermusic.com/\n\n\n\nA s
 ample performance from South for Winter to enjoy:\n\n\n\n\nhttps://youtu
 .be/eJ4UYgdVoC8\n\n\n\n\nFind out more about South for Winter here:\n\n\
 n\n\nWebsite: https://www.southforwintermusic.com/\n\n\n\nFacebook:&nbsp
 \;https://www.facebook.com/southforwintermusic\n\n\n\nYouTube:&nbsp\;htt
 ps://www.youtube.com/@SouthforWinterMusic\n\n\n\nInstagram: https://www.
 instagram.com/southforwintermusic\n\n\n\nSoundcloud: https://soundcloud.
 com/southforwintermusic\n\n\n\nSpotify: https://open.spotify.com/artist/
 1CCtgClqhDqOl41ZP4dDM8?si=D9Unv0f4Q8Ko5rUML4EPfw&amp\;dl_branch=1&amp\;n
 d=1&amp\;dlsi=6b5c02e0a4344e42\n\n\n\n\nSundays on the Square in 2024 - 
 Food &amp\; Hempstock Pharms\n\n\n\nIn addition to our great lineup of b
 ands playing from 5:00 - 7:00 pm\, we have food and other perks for you.
  For these special Sundays\, we have arranged these vendors:\n\n\n\n\nJu
 ne 2 - TBA\n\n\n\nJuly 7 - Your Sister's Tomato\n\n\n\nAugust 4 - Sandie
  Dogs\n\n\n\nSeptember 1 - Sandie Dogs\n\n\n\n\nRestaurants on the Squar
 e may be open on these evenings and will have carry-out items\, but plea
 se confirm with specific places. Of course you can bring your own food i
 tems as well!\n\n\n\nAnd one more thing! Hempstock Pharms Products will 
 be there all four Sundays selling a variety of cannabis products. Read w
 hat they say about their product HERE. And take a look at some of their 
 products HERE.\n\n\n\nDonations cheerfully accepted\n\n\n\nWe appreciate
  your contributions in support of music in Woodstock. You may contribute
  to Off Square Music and also to specific performers using the buttons i
 n the left column of most pages on this site.\n\n\n\nSundays on the Squa
 re\n\n\n\nBrought to you by...\n\n\n\nThese FREE summer concerts are bro
 ught to you by Off Square Music\, the Woodstock Opera House\, the City o
 f Woodstock\, and the Woodstock Hotel/Motel Tax Grants to the Arts -- as
  well as your generous donations. It truly takes a village.
URL;VALUE=URI:https://offsquaremusic.org/cal-events/sundays-on-the-squar
 e-features-south-for-winter-july-7/
UID:urn:uuid:86881afb-13dc-4e83-9bf8-fda3266347ea
STATUS:CONFIRMED
ORGANIZER:
DTSTAMP:20260426T024007Z
DTSTART;TZID=America/Chicago:20240707T170000
DTEND;TZID=America/Chicago:20240707T190000
LOCATION:Cass & Van Buren Streets
END:VEVENT
END:VCALENDAR