BEGIN:VCALENDAR
METHOD:PUBLISH
VERSION:2.0
CALSCALE:GREGORIAN
PRODID:-//NONSGML WPForms//NONSGML Sugar Calendar Feeds v3.11.0//EN
X-WR-CALNAME:Sundays on the Square Features The Lucky Pickers
X-WR-CALDESC:Off Square Music
X-WR-TIMEZONE:America/Chicago
BEGIN:VTIMEZONE
TZID:America/Chicago
BEGIN:DAYLIGHT
TZOFFSETFROM:-0600
TZOFFSETTO:-0500
DTSTART:20230312T080000
TZNAME:CDT
END:DAYLIGHT
END:VTIMEZONE
BEGIN:VTIMEZONE
TZID:America/Chicago
BEGIN:DAYLIGHT
TZOFFSETFROM:-0600
TZOFFSETTO:-0500
DTSTART:20230312T080000
TZNAME:CDT
END:DAYLIGHT
END:VTIMEZONE
BEGIN:VEVENT
SUMMARY:Sundays on the Square Features The Lucky Pickers
DESCRIPTION:Sundays on the Square features The Lucky Pickers. This is a 
 series that began in June and continues with weekly concerts into Septem
 ber. Plan to get together with your friends on the historic Woodstock To
 wn Square for an evening (5-7 pm CDT) to celebrate music\, summer\, fun\
 , and friends.&nbsp\;Read more below about Sundays on the Square\, one o
 f the best things about summer -- and it's FREE!\n\n\n\nWe will enjoy th
 ese concerts in AUGUST: \n\n\n\n\nAugust 6| Joe Filisko &amp\; Eric Node
 n\n\n\n\nAugust 13 | Dave Rudolf\n\n\n\nAugust 20 | The Lucky Pickers\n\
 n\n\nAugust 27 | Jonas Friddle Trio&nbsp\;\n\n\n\n\nAugust 20 | The Luck
 y Pickers\n\n\n\nAbout The Lucky Pickers\n\n\n\nThe Lucky Pickers is an 
 Americana/bluegrass inspired duo.\n\n\n\nSundays on the Square features 
 The Lucky Pickers\, an Americana/bluegrass inspired duo consisting of De
 spina Pafralides of Fox Crossing Stringband &amp\; Tiny Country\, &amp\;
  Caleb Peters from Miles Over Mountains.'\n\n\n\nWhen not traveling with
  their bands\, Miles Over Mountains and Fox Crossing Stringband\, the tw
 o multi-instrumentalists team up for an upbeat mixture of Americana and 
 bluegrass driven tunes. \n\n\n\nBoth Caleb and Despina have performed ac
 ross the country at numerous venues\, festivals\, and events.\n\n\n\n\n\
 n\n\nSee their full-time bands here:\n\n\n\n\nwww.milesovermountains.com
 \n\n\n\nwww.tinycountryband.com\n\n\n\nwww.foxcrossingstringband.com/\n\
 n\n\n\nREAD MORE ABOUT THE LUCKY PICKERS - AND LISTEN TO MUSIC SAMPLES H
 ERE.\n\n\n\n\n\n\n\n\n\n\n\nSundays on the Square – celebrate music &a
 mp\; summer outdoors\n\n\n\nSundays on the Square&nbsp\;in 2023 run ever
 y Sunday\, June 25 – Sept 3\, except for July 16 (the Woodstock Folk F
 estival is always scheduled the third Sunday in July).\n\n\n\nEnjoy some
  great bands from 5:00 – 7:00 pm CDT. We gather on the&nbsp\;historic 
 Woodstock Square\, Cass &amp\; Van Buren Streets\, Woodstock&nbsp\;IL&nb
 sp\;60098. Shows vary\, some with one and some with two acts\, featuring
  local\, regional\, and national talent.&nbsp\;\n\n\n\nRestaurants on th
 e Square are usually open on these evenings with carry-out items\, but p
 lease confirm with specific places. Of course you can bring your own foo
 d items and picnic on the Square. Also\, be sure to bring chairs!\n\n\n\
 nSunday evenings on the Square are always a memorable part of summer in 
 the Woodstock area. Watch this website for updates and specifics on the 
 bands. Better yet\, subscribe to our email list if you aren’t already 
 on it!\n\n\n\nWatch our website for details about upcoming performers:\n
 \n\n\n\nAugust 27 | Jonas Friddle Trio&nbsp\;\n\n\n\nSeptember 3 | Hot L
 agarto&nbsp\; \n\n\n\n\nFor the entire Summer 2023 Schedule\, check HERE
 .\n\n\n\nDonations cheerfully accepted\n\n\n\nWe appreciate your contrib
 utions in support of music in Woodstock. You may contribute to Off Squar
 e Music and also to specific performers using the buttons in the left co
 lumn of most pages on this site.\n\n\n\nBrought to you by...\n\n\n\nThes
 e FREE summer concerts are brought to you by Off Square Music\, the Wood
 stock Opera House\, the City of Woodstock\, and the Woodstock Hotel/Mote
 l Tax Grants to the Arts -- as well as your generous donations. It truly
  takes a village (and a state\, and a few cities\, a couple of guys with
  wagons and an ice cream vendor).
URL;VALUE=URI:https://offsquaremusic.org/cal-events/sundays-on-the-squar
 e-features-the-lucky-pickers/
UID:urn:uuid:046e34b3-484b-49da-857f-b1e1b5b626cb
STATUS:CONFIRMED
ORGANIZER:
DTSTAMP:20260425T232345Z
DTSTART;TZID=America/Chicago:20230820T170000
DTEND;TZID=America/Chicago:20230820T190000
LOCATION:Cass & Van Buren Sts.
END:VEVENT
END:VCALENDAR