BEGIN:VCALENDAR
METHOD:PUBLISH
VERSION:2.0
CALSCALE:GREGORIAN
PRODID:-//NONSGML WPForms//NONSGML Sugar Calendar Feeds v3.11.0//EN
X-WR-CALNAME:Sundays on the Square Featuring The Empty Pockets | August 
 4
X-WR-CALDESC:Off Square Music
X-WR-TIMEZONE:America/Chicago
BEGIN:VTIMEZONE
TZID:America/Chicago
BEGIN:DAYLIGHT
TZOFFSETFROM:-0600
TZOFFSETTO:-0500
DTSTART:20240310T080000
TZNAME:CDT
END:DAYLIGHT
END:VTIMEZONE
BEGIN:VTIMEZONE
TZID:America/Chicago
BEGIN:DAYLIGHT
TZOFFSETFROM:-0600
TZOFFSETTO:-0500
DTSTART:20240310T080000
TZNAME:CDT
END:DAYLIGHT
END:VTIMEZONE
BEGIN:VEVENT
SUMMARY:Sundays on the Square Featuring The Empty Pockets | August 4
DESCRIPTION:Sundays on the Square featuring The Empty Pockets\, August 4
 \, is the third in our 2024 season! Performance is 5:00 - 7:00 pm CDT\, 
 and there's more ... read on!\n\n\n\nSundays on the Square in 2024 run t
 he first Sunday of every month\, June 2 - September 1. Enjoy great bands
  and other fun stuff from 5:00 - 7:00 pm on the historic Woodstock Squar
 e\, Cass &amp\; Van Buren Streets\, Woodstock&nbsp\;IL&nbsp\;60098. &nbs
 p\;\n\n\n\nSunday evenings on the Square are always a memorable part of 
 summer in the Woodstock area. Put the dates on your calendar now\, and w
 e'll look forward to seeing you there! You can also subscribe to the cal
 endar on this website so it will add Off Square Music dates to your own 
 calendar of choice.\n\n\n\nSo come on out to enjoy those lazy\, crazy da
 ys of summer with Sundays on the Square\, Sunday\, June 2\, 5:00 - 7:00 
 pm.\n\n\n\nSundays on the Square featuring The Empty Pockets | August 4\
 n\n\n\nLight flickers in even the darkest of spaces and smallest cracks.
  Similarly\, The Empty Pockets&nbsp\;ignite a bright flame of their own 
 by harnessing a joyful friction between Americana\, folk\, and&nbsp\;roc
 k ‘n’ roll spiked with roots soul. The Chicago quartet—Josh Solomo
 n [guitar\, vocals]\, Erika&nbsp\;Brett [keyboards\, vocals]\, Nate Bell
 on [bass\, vocals]\, and Adam Balasco [drums]—lean on an&nbsp\;unspoke
 n\, yet airtight musical dialogue honed by countless miles on the road\,
  performances&nbsp\; alongside the likes of Kenny Loggins\, a procession
  of fan favorite releases (including a #1 debut)\,&nbsp\;and a wealth of
  memories together.&nbsp\;\n\n\n\nRead more about The Empty Pockets here
 .&nbsp\;\n\n\n\nWhat people say about The Empty Pockets\n\n\n\n\n“The 
 Empty Pockets come prepared to hook your ears. Their wily tunes ooze ind
 ustrious spirit\, imagination and heart with tight and gritty Americana 
 rhythms.” — The Big Takeover\n\n\n\n\n\n“a talented band who conti
 nue to operate at the top of their game.” — Plastic Magazine\n\n\n\n
 \n\n“They’re not limiting themselves based on creative wits\, but in
 stead getting all the more creative with their sound because of their wi
 llingness to make something familiar feel original again.” — Pulse M
 usic\n\n\n\n\n\n“a melting pot of rock\, blues\, and Americana\, all p
 unctuated with tight harmonies. Known for their infectious energy and or
 iginal storytelling\, the band is pioneering a new wave of roots rock...
 ” — Grateful Web\n\n\n\n\nA sample performance from The Empty Pocket
 s for you to enjoy. There's more on their website:\n\n\n\n\nhttps://yout
 u.be/K2zjPA_k8jg\n\n\n\n\nFind out more about The Empty Pockets here:\n\
 n\n\n\nWebsite: https://theemptypockets.com/home\n\n\n\nFacebook:&nbsp\;
 https://www.facebook.com/theemptypockets\n\n\n\nInstagram: https://www.i
 nstagram.com/theemptypockets\n\n\n\nYouTube:&nbsp\;https://www.youtube.c
 om/user/theemptypockets\n\n\n\nSpotify: https://open.spotify.com/artist/
 0rh5QYyYGojMDMJE0EXiUv\n\n\n\niTunes: https://music.apple.com/us/artist/
 the-empty-pockets/478962540\n\n\n\nTwitter: https://twitter.com/theempty
 pockets\n\n\n\n\nSundays on the Square in 2024 - Food &amp\; Hempstock P
 harms\n\n\n\nIn addition to our great lineup of bands playing from 5:00 
 - 7:00 pm\, we have food and other perks for you. For these special Sund
 ays\, we have arranged these vendors:\n\n\n\n\nJune 2 - TBA\n\n\n\nJuly 
 7 - Your Sister's Tomato\n\n\n\nAugust 4 - Sandie Dogs\n\n\n\nSeptember 
 1 - Sandie Dogs\n\n\n\n\nRestaurants on the Square may be open on these 
 evenings and will have carry-out items\, but please confirm with specifi
 c places. Of course you can bring your own food items as well!\n\n\n\nAn
 d one more thing! Hempstock Pharms Products will be there all four Sunda
 ys selling a variety of cannabis products. Read what they say about thei
 r product HERE. And take a look at some of their products HERE.\n\n\n\nD
 onations cheerfully accepted\n\n\n\nWe appreciate your contributions in 
 support of music in Woodstock. You may contribute to Off Square Music an
 d also to specific performers using the buttons in the left column of mo
 st pages on this site.\n\n\n\nSundays on the Square\n\n\n\nBrought to yo
 u by...\n\n\n\nThese FREE summer concerts are brought to you by Off Squa
 re Music\, the Woodstock Opera House\, the City of Woodstock\, and the W
 oodstock Hotel/Motel Tax Grants to the Arts -- as well as your generous 
 donations. It truly takes a village.
URL;VALUE=URI:https://offsquaremusic.org/cal-events/sundays-on-the-squar
 e-featuring-the-empty-pockets-august-4/
UID:urn:uuid:c4e93e9f-3397-4437-803e-8521e5a27289
STATUS:CONFIRMED
ORGANIZER:
DTSTAMP:20260426T035749Z
DTSTART;TZID=America/Chicago:20240804T170000
DTEND;TZID=America/Chicago:20240804T190000
LOCATION:Cass & Van Buren Streets
END:VEVENT
END:VCALENDAR