BEGIN:VCALENDAR
METHOD:PUBLISH
VERSION:2.0
CALSCALE:GREGORIAN
PRODID:-//NONSGML WPForms//NONSGML Sugar Calendar Feeds v3.11.0//EN
X-WR-CALNAME:The 38th Annual Woodstock Folk Festival comes to the Square
  Sunday\, July 16
X-WR-CALDESC:Off Square Music
X-WR-TIMEZONE:America/Chicago
BEGIN:VTIMEZONE
TZID:America/Chicago
BEGIN:DAYLIGHT
TZOFFSETFROM:-0600
TZOFFSETTO:-0500
DTSTART:20230312T080000
TZNAME:CDT
END:DAYLIGHT
END:VTIMEZONE
BEGIN:VTIMEZONE
TZID:America/Chicago
BEGIN:DAYLIGHT
TZOFFSETFROM:-0600
TZOFFSETTO:-0500
DTSTART:20230312T080000
TZNAME:CDT
END:DAYLIGHT
END:VTIMEZONE
BEGIN:VEVENT
SUMMARY:The 38th Annual Woodstock Folk Festival comes to the Square Sund
 ay\, July 16
DESCRIPTION:The 38th Annual Woodstock Folk Festival is coming to town\, 
 Sunday\, July 16. As in past years\, we gather on the historic Square in
  Woodstock\, Illinois. Mark your calendars now for Noon to 6 p.m.    \n\
 n\n\nVisit woodstockfolkfestival.org for the full schedule of performanc
 es and other information to make your weekend a great success! \n\n\n\nW
 e look forward to seeing you at the 38th Annual Woodstock Folk Festival.
 \n\n\n\nThere will not be a Sundays on the Square Concert on July 16. We
 'll all be at the Woodstock Folk Festival! \n\n\n\nCheck out video of th
 e pre-Festival spring concert.
URL;VALUE=URI:https://offsquaremusic.org/cal-events/the-38th-annual-wood
 stock-folk-festival-comes-to-the-square-sunday-july-16/
UID:urn:uuid:a581ace1-d0ef-4336-9ff9-03970dee028a
STATUS:CONFIRMED
ORGANIZER:
DTSTAMP:20260426T032341Z
DTSTART;TZID=America/Chicago:20230716T120000
DTEND;TZID=America/Chicago:20230716T180000
LOCATION:125 W. Van Buren St.
END:VEVENT
END:VCALENDAR