BEGIN:VCALENDAR
METHOD:PUBLISH
VERSION:2.0
CALSCALE:GREGORIAN
PRODID:-//NONSGML WPForms//NONSGML Sugar Calendar Feeds v3.11.0//EN
X-WR-CALNAME:The Stage Leftovers at Stage Left Cafe
X-WR-CALDESC:Off Square Music
X-WR-TIMEZONE:America/Chicago
BEGIN:VTIMEZONE
TZID:America/Chicago
BEGIN:STANDARD
TZOFFSETFROM:-0500
TZOFFSETTO:-0600
DTSTART:20231105T070000
TZNAME:CST
END:STANDARD
BEGIN:DAYLIGHT
TZOFFSETFROM:-0600
TZOFFSETTO:-0500
DTSTART:20240310T080000
TZNAME:CDT
END:DAYLIGHT
END:VTIMEZONE
BEGIN:VTIMEZONE
TZID:America/Chicago
BEGIN:STANDARD
TZOFFSETFROM:-0500
TZOFFSETTO:-0600
DTSTART:20231105T070000
TZNAME:CST
END:STANDARD
BEGIN:DAYLIGHT
TZOFFSETFROM:-0600
TZOFFSETTO:-0500
DTSTART:20240310T080000
TZNAME:CDT
END:DAYLIGHT
END:VTIMEZONE
BEGIN:VEVENT
SUMMARY:The Stage Leftovers at Stage Left Cafe
DESCRIPTION:The Stage LeftOvers are back at Stage Left April 27\, Saturd
 ay evening\, 7:00 pm – 9:30 pm CDT!! Don’t miss it — join the Left
 Overs and your friends at 125 W. Van Buren\, Woodstock\, Illinois. Get y
 our tickets below.\n\n\n\n\n\n\n\nThe Stage LeftOvers performed at Stage
  Left Cafe twice monthly between May 2009 and December 2021. Now they're
  reuniting for another show!\n\n\n\nThis show will consist of two sets. 
 The first set will feature ‘Ones That Got Away’ material from those 
 who passed in 2023\, including Tina Turner\, David Crosby\, Jeff Beck\, 
 Jimmy Buffett and others. The 2nd set will be LeftOvers favorites.\n\n\n
 \n\n\n\n\nWho are the much-loved and missed Leftovers? A performing grou
 p of some of Woodstock's finest. Here they are\, left to right: \n\n\n\n
 \nJoe Pesz\, drums &amp\; vocals\n\n\n\nRich Prezioso\, guitar &amp\; vo
 cals\n\n\n\nBrian Murphy\, guitar &amp\; vocals\n\n\n\nJim Seidel\, bass
  \n\n\n\nPete Jonsson\, guitar &amp\; vocals\n\n\n\nLaurel Palma\, keybo
 ard &amp\; vocals\n\n\n\nLes Urban\, pedal steel &amp\; vocals\n\n\n\n\n
 You can find out more on their Facebook page\, https://www.facebook.com/
 StageLeftOvers/. Hear for yourself\, in-person. Come on out and celebrat
 e with friends\, The Stage Leftovers. Saturday\, April 27\, 7:00 - 9:30 
 pm CDT. \n\n\n\nDoors open at 6:30 pm. Performance starts at 7:00 pm.\n\
 n\n\nTickets for this concert are $10 in advance or $15 at the door.\n\n
 \n\n\n\n\n\n\n\n\n\n\n\n\n\nEvent Tickets\n\n\n\nTickets for this concer
 t are $10 in advance or $15 at the door.
URL;VALUE=URI:https://offsquaremusic.org/cal-events/the-stage-leftovers-
 at-stage-left-cafe/
UID:urn:uuid:10153edc-219a-4197-bc9f-32aa4602cc2d
STATUS:CONFIRMED
ORGANIZER:
DTSTAMP:20260425T235748Z
DTSTART;TZID=America/Chicago:20240427T190000
DTEND;TZID=America/Chicago:20240427T213000
LOCATION:125 W. Van Buren St.
END:VEVENT
END:VCALENDAR